BEGIN:VCALENDAR
VERSION:2.0
PRODID:-//Rockfield Pentecostal Church - ECPv6.15.20//NONSGML v1.0//EN
CALSCALE:GREGORIAN
METHOD:PUBLISH
X-WR-CALNAME:Rockfield Pentecostal Church
X-ORIGINAL-URL:https://rockfieldchurch.ca
X-WR-CALDESC:Events for Rockfield Pentecostal Church
REFRESH-INTERVAL;VALUE=DURATION:PT1H
X-Robots-Tag:noindex
X-PUBLISHED-TTL:PT1H
BEGIN:VTIMEZONE
TZID:America/Toronto
BEGIN:DAYLIGHT
TZOFFSETFROM:-0500
TZOFFSETTO:-0400
TZNAME:EDT
DTSTART:20250309T070000
END:DAYLIGHT
BEGIN:STANDARD
TZOFFSETFROM:-0400
TZOFFSETTO:-0500
TZNAME:EST
DTSTART:20251102T060000
END:STANDARD
BEGIN:DAYLIGHT
TZOFFSETFROM:-0500
TZOFFSETTO:-0400
TZNAME:EDT
DTSTART:20260308T070000
END:DAYLIGHT
BEGIN:STANDARD
TZOFFSETFROM:-0400
TZOFFSETTO:-0500
TZNAME:EST
DTSTART:20261101T060000
END:STANDARD
BEGIN:DAYLIGHT
TZOFFSETFROM:-0500
TZOFFSETTO:-0400
TZNAME:EDT
DTSTART:20270314T070000
END:DAYLIGHT
BEGIN:STANDARD
TZOFFSETFROM:-0400
TZOFFSETTO:-0500
TZNAME:EST
DTSTART:20271107T060000
END:STANDARD
END:VTIMEZONE
BEGIN:VEVENT
DTSTART;TZID=America/Toronto:20260121T071500
DTEND;TZID=America/Toronto:20260121T201500
DTSTAMP:20260420T075233
CREATED:20260120T133741Z
LAST-MODIFIED:20260120T133747Z
UID:6792-1768979700-1769026500@rockfieldchurch.ca
SUMMARY:Bible Prophecy of the End Times: Jesus is coming!
DESCRIPTION:For about 7 Wednesdays\, we will be studying what the Bible says about the Last Days\, the Rapture\, the Tribulation\, the Second Coming\, the Mark of the Beast\, in the light of the world events that are happening all around us.
URL:https://rockfieldchurch.ca/event/bible-prophecy-of-the-end-times-jesus-is-coming/
END:VEVENT
END:VCALENDAR