BEGIN:VCALENDAR
VERSION:2.0
PRODID:-//Rockfield Pentecostal Church - ECPv6.15.20//NONSGML v1.0//EN
CALSCALE:GREGORIAN
METHOD:PUBLISH
X-WR-CALNAME:Rockfield Pentecostal Church
X-ORIGINAL-URL:https://rockfieldchurch.ca
X-WR-CALDESC:Events for Rockfield Pentecostal Church
REFRESH-INTERVAL;VALUE=DURATION:PT1H
X-Robots-Tag:noindex
X-PUBLISHED-TTL:PT1H
BEGIN:VTIMEZONE
TZID:America/Toronto
BEGIN:DAYLIGHT
TZOFFSETFROM:-0500
TZOFFSETTO:-0400
TZNAME:EDT
DTSTART:20250309T070000
END:DAYLIGHT
BEGIN:STANDARD
TZOFFSETFROM:-0400
TZOFFSETTO:-0500
TZNAME:EST
DTSTART:20251102T060000
END:STANDARD
BEGIN:DAYLIGHT
TZOFFSETFROM:-0500
TZOFFSETTO:-0400
TZNAME:EDT
DTSTART:20260308T070000
END:DAYLIGHT
BEGIN:STANDARD
TZOFFSETFROM:-0400
TZOFFSETTO:-0500
TZNAME:EST
DTSTART:20261101T060000
END:STANDARD
BEGIN:DAYLIGHT
TZOFFSETFROM:-0500
TZOFFSETTO:-0400
TZNAME:EDT
DTSTART:20270314T070000
END:DAYLIGHT
BEGIN:STANDARD
TZOFFSETFROM:-0400
TZOFFSETTO:-0500
TZNAME:EST
DTSTART:20271107T060000
END:STANDARD
END:VTIMEZONE
BEGIN:VEVENT
DTSTART;TZID=America/Toronto:20260315T170000
DTEND;TZID=America/Toronto:20260315T183000
DTSTAMP:20260420T041857
CREATED:20260305T203231Z
LAST-MODIFIED:20260311T212429Z
UID:6861-1773594000-1773599400@rockfieldchurch.ca
SUMMARY:Spanish Service
DESCRIPTION:¡Bienvenidos al culto en español! Nos alegra muchísimo que estén aquí. \n\n\n\nSi hablas español o conoces a alguien que lo habla\, este es tu lugar. Aquí encontrarás una familia espiritual donde podrás adorar\, crecer en la fe y experimentar la presencia de Dios en tu idioma. Queremos invitarte a seguir viniendo\, a traer a tus amigos y familiares\, y a ser parte de lo que el Señor está haciendo entre nosotros. \n\n\n\n\nEsta es tu casa. Esta es tu iglesia. ¡Bienvenido a la familia!
URL:https://rockfieldchurch.ca/event/6861/
END:VEVENT
BEGIN:VEVENT
DTSTART;TZID=America/Toronto:20260327T190000
DTEND;TZID=America/Toronto:20260327T210000
DTSTAMP:20260420T041857
CREATED:20260311T212653Z
LAST-MODIFIED:20260311T212656Z
UID:6964-1774638000-1774645200@rockfieldchurch.ca
SUMMARY:The Gathering
DESCRIPTION:Join us for our Young Adult Gathering—a night of worship\, fellowship\, and community. We come together to praise and adore the Lord\, share a meal\, and build meaningful connections with one another. If you’re looking for a place to grow spiritually\, make new friends\, and experience God’s presence in a real way\, this is the perfect space for you. Come hungry\, come expectant\, and come ready to encounter Jesus together.
URL:https://rockfieldchurch.ca/event/the-gathering/
END:VEVENT
BEGIN:VEVENT
DTSTART;TZID=America/Toronto:20260409T193000
DTEND;TZID=America/Toronto:20260409T193000
DTSTAMP:20260420T041857
CREATED:20260325T032901Z
LAST-MODIFIED:20260325T032907Z
UID:7196-1775763000-1775763000@rockfieldchurch.ca
SUMMARY:REVIVAL SERVICE
DESCRIPTION:Revival Service Invitation – 120th Anniversary of the Pentecostal Outpouring \n\n\n\nOn April 9\, 1906\, the Holy Spirit fell on Bonnie Brae Street in Los Angeles\, and history was changed forever. What began in a small prayer meeting ignited a global movement of renewal\, worship\, and Spirit‑empowered mission. \n\n\n\nAs we mark 120 years of the Pentecostal Movement\, we invite you to join us for a special revival service—a time to remember what God has done and to seek a fresh outpouring for today. \n\n\n\nCome expecting:\n\n\n\nFellowship with believers hungry for God’s presence \n\n\n\nPowerful worship \n\n\n\nPrayer for renewal and healing \n\n\n\nA message of hope and Holy Spirit empowerment
URL:https://rockfieldchurch.ca/event/revival-service/
END:VEVENT
BEGIN:VEVENT
DTSTART;TZID=America/Toronto:20260411T090000
DTEND;TZID=America/Toronto:20260411T090000
DTSTAMP:20260420T041857
CREATED:20260325T140324Z
LAST-MODIFIED:20260325T140328Z
UID:7199-1775898000-1775898000@rockfieldchurch.ca
SUMMARY:WOMEN'S BREAKFAST
DESCRIPTION:We are delighted to invite you to a special Women’s Breakfast\, a morning of fellowship\, encouragement\, and heartfelt sharing. \n\n\n\nThis year\, we have the joy of welcoming Louise‑Anne Clermont Tremblay\, former missionary\, who will be with us to share her powerful testimony of God’s faithfulness. Her story is a beautiful reminder of how the Lord guides\, sustains\, and transforms every life that trusts in Him. \n\n\n\nCome enjoy a warm breakfast\, meaningful conversation\, and a time of spiritual refreshing together.
URL:https://rockfieldchurch.ca/event/womens-breakfast/
END:VEVENT
BEGIN:VEVENT
DTSTART;TZID=America/Toronto:20260418T093000
DTEND;TZID=America/Toronto:20260418T120000
DTSTAMP:20260420T041857
CREATED:20260416T222259Z
LAST-MODIFIED:20260416T222303Z
UID:7257-1776504600-1776513600@rockfieldchurch.ca
SUMMARY:COMMUNITY BREAKFAST
DESCRIPTION:
URL:https://rockfieldchurch.ca/event/community-breakfast/
END:VEVENT
END:VCALENDAR